BEGIN:VCALENDAR
VERSION:2.0
PRODID:-//Missouri LAGERS - ECPv6.15.14//NONSGML v1.0//EN
CALSCALE:GREGORIAN
METHOD:PUBLISH
X-WR-CALNAME:Missouri LAGERS
X-ORIGINAL-URL:https://www.molagers.org
X-WR-CALDESC:Events for Missouri LAGERS
REFRESH-INTERVAL;VALUE=DURATION:PT1H
X-Robots-Tag:noindex
X-PUBLISHED-TTL:PT1H
BEGIN:VTIMEZONE
TZID:America/Chicago
BEGIN:DAYLIGHT
TZOFFSETFROM:-0600
TZOFFSETTO:-0500
TZNAME:CDT
DTSTART:20210314T080000
END:DAYLIGHT
BEGIN:STANDARD
TZOFFSETFROM:-0500
TZOFFSETTO:-0600
TZNAME:CST
DTSTART:20211107T070000
END:STANDARD
BEGIN:DAYLIGHT
TZOFFSETFROM:-0600
TZOFFSETTO:-0500
TZNAME:CDT
DTSTART:20220313T080000
END:DAYLIGHT
BEGIN:STANDARD
TZOFFSETFROM:-0500
TZOFFSETTO:-0600
TZNAME:CST
DTSTART:20221106T070000
END:STANDARD
BEGIN:DAYLIGHT
TZOFFSETFROM:-0600
TZOFFSETTO:-0500
TZNAME:CDT
DTSTART:20230312T080000
END:DAYLIGHT
BEGIN:STANDARD
TZOFFSETFROM:-0500
TZOFFSETTO:-0600
TZNAME:CST
DTSTART:20231105T070000
END:STANDARD
END:VTIMEZONE
BEGIN:VEVENT
DTSTART;TZID=America/Chicago:20220707T080000
DTEND;TZID=America/Chicago:20220707T103000
DTSTAMP:20260424T230050
CREATED:20211221T203714Z
LAST-MODIFIED:20220407T205009Z
UID:13104-1657180800-1657189800@www.molagers.org
SUMMARY:Virtual Pre-Retirement Seminar - July 7
DESCRIPTION:This is an online Virtual Pre-Retirement Seminar. \nIn this Virtual Pre-Retirement Seminar\, we will cover topics such as how your benefit is calculated\, the retirement application process\, payment options\, taxes\, COLAs\, and other after retirement topics. This webinar is open to all LAGERS members wanting to know more about the retirement process. \nPlease fully complete the registration so that we are able to generate your benefit estimate. A Pre-Retirement Seminar packet including your benefit estimate will be emailed to you before the event. \n  \nTechnical requirements for virtual seminar: \n\n\nA computer with speakers (mobile phones are compatible as well)\nStable internet connection\nMay require you to download the Zoom app or software prior to the meeting.\n\n\nContact Ginnie Medlin at 573.632.6366 or email gmedlin@molagers.org for more information. \nRegister\nView Recording
URL:https://www.molagers.org/lagers-events/virtual-pre-retirement-seminar-july-7/
CATEGORIES:Pre-Retirement Seminars,Webinars
ORGANIZER;CN="Ginnie Medlin":MAILTO:gmedlin@molagers.org
END:VEVENT
BEGIN:VEVENT
DTSTART;TZID=America/Chicago:20220707T090000
DTEND;TZID=America/Chicago:20220707T110000
DTSTAMP:20260424T230050
CREATED:20211221T152312Z
LAST-MODIFIED:20220511T135738Z
UID:13071-1657184400-1657191600@www.molagers.org
SUMMARY:Retiree Link Meeting - St. Joseph
DESCRIPTION:Retiree LINK Meetings are one way LAGERS keeps in touch with retirees. Link meetings provide the opportunity to reconnect with peers and LAGERS staff\, hear a system update\, and listen to other retirement topics. \nEducational Topic: Estate Planning \nRegister
URL:https://www.molagers.org/lagers-events/retiree-link-meeting-st-joseph-2/
LOCATION:Stoney Creek Inn – St. Joseph\, 1201 N Woodbine Rd\, St. Joseph\, MO\, 64506\, United States
CATEGORIES:Retiree LINK Meetings
ATTACH;FMTTYPE=image/png:https://www.molagers.org/wp-content/uploads/2020/12/Retiree-Link-Meeting.png
ORGANIZER;CN="Ginnie Medlin":MAILTO:gmedlin@molagers.org
END:VEVENT
BEGIN:VEVENT
DTSTART;TZID=America/Chicago:20220712T090000
DTEND;TZID=America/Chicago:20220712T110000
DTSTAMP:20260424T230050
CREATED:20220204T205120Z
LAST-MODIFIED:20220517T151357Z
UID:13829-1657616400-1657623600@www.molagers.org
SUMMARY:Retiree Link Meeting - Independence
DESCRIPTION:TENTATIVE: Location & Date \nRetiree LINK Meetings are one way LAGERS keeps in touch with retirees. Link meetings provide the opportunity to reconnect with peers and LAGERS staff\, hear a system update\, and listen to other retirement topics. \nEducational Session Topic: Estate Planning \nRegister
URL:https://www.molagers.org/lagers-events/retiree-link-meeting-independence-2/
LOCATION:Stoney Creek Inn – Independence\, MO\, 18011 Bass Pro Dr.\, Independence\, MO\, 64055\, United States
CATEGORIES:Retiree LINK Meetings
ATTACH;FMTTYPE=image/png:https://www.molagers.org/wp-content/uploads/2020/12/Retiree-Link-Meeting.png
ORGANIZER;CN="Penny Thomas":MAILTO:pthomas@molagers.org
END:VEVENT
BEGIN:VEVENT
DTSTART;TZID=America/Chicago:20220712T113000
DTEND;TZID=America/Chicago:20220712T130000
DTSTAMP:20260424T230050
CREATED:20210209T131639Z
LAST-MODIFIED:20220610T185846Z
UID:6666-1657625400-1657630800@www.molagers.org
SUMMARY:HResource Meeting - St. Joseph
DESCRIPTION:Please join us for lunch and expand your knowledge of your retirement system. We’ll be talking about the basics of benefits\, changing benefits\, what tools are available\, and communication tactics for the proper way of relaying LAGERS information. \n \n  \n  \n  \nRegister\nView Recording
URL:https://www.molagers.org/lagers-events/hresource-meeting-st-joseph/
LOCATION:Stoney Creek Inn – St. Joseph\, 1201 N Woodbine Rd\, St. Joseph\, MO\, 64506\, United States
CATEGORIES:CLA Credit,Employer Meetings,HResource Meeting
ATTACH;FMTTYPE=image/jpeg:https://www.molagers.org/wp-content/uploads/2021/02/HResource-Meeting.jpg
ORGANIZER;CN="Penny Thomas":MAILTO:pthomas@molagers.org
END:VEVENT
BEGIN:VEVENT
DTSTART;TZID=America/Chicago:20220712T130000
DTEND;TZID=America/Chicago:20220712T153000
DTSTAMP:20260424T230050
CREATED:20211221T153225Z
LAST-MODIFIED:20211222T205304Z
UID:13073-1657630800-1657639800@www.molagers.org
SUMMARY:Pre-Retirement Seminar - St. Peters
DESCRIPTION:Who should attend: Members within 5 years of retirement. \nThis seminar includes a short discussion on how your benefit is calculated. Then the focus shifts to the retirement application process\, payment options\, the taxation of your benefit\, the cost of living adjustments and options for working after retirement. \n  \n  \n  \n  \nRegister\nView Recording
URL:https://www.molagers.org/lagers-events/pre-retirement-seminar-st-peters-2/
LOCATION:Courtyard by Marriott\, 4341 Veterans Memorial Pkwy\, St. Peters\, MO\, 63376\, United States
CATEGORIES:Pre-Retirement Seminars
ORGANIZER;CN="Ginnie Medlin":MAILTO:gmedlin@molagers.org
END:VEVENT
BEGIN:VEVENT
DTSTART;TZID=America/Chicago:20220720T130000
DTEND;TZID=America/Chicago:20220720T153000
DTSTAMP:20260424T230050
CREATED:20211221T204252Z
LAST-MODIFIED:20220407T204938Z
UID:13108-1658322000-1658331000@www.molagers.org
SUMMARY:Virtual Pre-Retirement Seminar - July 20
DESCRIPTION:This is an online Virtual Pre-Retirement Seminar. \nIn this Virtual Pre-Retirement Seminar\, we will cover topics such as how your benefit is calculated\, the retirement application process\, payment options\, taxes\, COLAs\, and other after retirement topics. This webinar is open to all LAGERS members wanting to know more about the retirement process. \nPlease fully complete the registration so that we are able to generate your benefit estimate. A Pre-Retirement Seminar packet including your benefit estimate will be emailed to you before the event. \n  \nTechnical requirements for virtual seminar: \n\n\nA computer with speakers (mobile phones are compatible as well)\nStable internet connection\nMay require you to download the Zoom app or software prior to the meeting.\n\n\nContact Ginnie Medlin at 573.632.6366 or email gmedlin@molagers.org for more information. \nRegister\nView Recording
URL:https://www.molagers.org/lagers-events/virtual-pre-retirement-seminar-july-20/
CATEGORIES:Pre-Retirement Seminars,Webinars
ORGANIZER;CN="Ginnie Medlin":MAILTO:gmedlin@molagers.org
END:VEVENT
BEGIN:VEVENT
DTSTART;TZID=America/Chicago:20220721T113000
DTEND;TZID=America/Chicago:20220721T130000
DTSTAMP:20260424T230050
CREATED:20211221T162850Z
LAST-MODIFIED:20220610T185707Z
UID:13081-1658403000-1658408400@www.molagers.org
SUMMARY:HResource Meeting - St. Peters
DESCRIPTION:Please join us for lunch and expand your knowledge of your retirement system. We’ll be talking about the basics of benefits\, changing benefits\, what tools are available\, and communication tactics for the proper way of relaying LAGERS information. \n \n  \n  \n  \n  \nRegister\nView Recording
URL:https://www.molagers.org/lagers-events/hresource-meeting-st-peters-2/
LOCATION:Courtyard by Marriott\, 4341 Veterans Memorial Pkwy\, St. Peters\, MO\, 63376\, United States
CATEGORIES:Employer Meetings,HResource Meeting
ATTACH;FMTTYPE=image/jpeg:https://www.molagers.org/wp-content/uploads/2021/02/HResource-Meeting.jpg
ORGANIZER;CN="Ginnie Medlin":MAILTO:gmedlin@molagers.org
END:VEVENT
BEGIN:VEVENT
DTSTART;TZID=America/Chicago:20220721T140000
DTEND;TZID=America/Chicago:20220721T150000
DTSTAMP:20260424T230050
CREATED:20211221T204003Z
LAST-MODIFIED:20220509T210122Z
UID:13106-1658412000-1658415600@www.molagers.org
SUMMARY:Understanding Your LAGERS Benefit - July 21
DESCRIPTION:This is a basic explanation of what LAGERS Retirement Benefits are. Learn about how LAGERS is different from other retirement plans\, what you need to do to become eligible for benefits\, and see how valuable your benefit is to helping you reach your retirement goals. \nThis session is great for new employees or human resource personnel wanting a general overview of the LAGERS plan. You may forward this invitation to any new hires wishing to learn more about their benefits. \n \n  \nRegister\nView Recording
URL:https://www.molagers.org/lagers-events/understanding-your-lagers-benefit-july-14/
CATEGORIES:CLA Credit,Webinars
ORGANIZER;CN="Ginnie Medlin":MAILTO:gmedlin@molagers.org
END:VEVENT
BEGIN:VEVENT
DTSTART;TZID=America/Chicago:20220726T113000
DTEND;TZID=America/Chicago:20220726T130000
DTSTAMP:20260424T230050
CREATED:20211221T163656Z
LAST-MODIFIED:20220610T185635Z
UID:13083-1658835000-1658840400@www.molagers.org
SUMMARY:HResource Meeting - Columbia
DESCRIPTION:Please join us for lunch and expand your knowledge of your retirement system. We’ll be talking about the basics of benefits\, changing benefits\, what tools are available\, and communication tactics for the proper way of relaying LAGERS information. \n \n  \n  \n  \nRegister\nView Recording
URL:https://www.molagers.org/lagers-events/hresource-meeting-columbia-2/
LOCATION:Stoney Creek Inn – Columbia\, MO\, 2601 S Providence Rd\, Columbia\, MO\, 65203\, United States
CATEGORIES:Employer Meetings,HResource Meeting
ATTACH;FMTTYPE=image/jpeg:https://www.molagers.org/wp-content/uploads/2021/02/HResource-Meeting.jpg
ORGANIZER;CN="Ginnie Medlin":MAILTO:gmedlin@molagers.org
END:VEVENT
BEGIN:VEVENT
DTSTART;TZID=America/Chicago:20220727T113000
DTEND;TZID=America/Chicago:20220727T130000
DTSTAMP:20260424T230050
CREATED:20211221T162006Z
LAST-MODIFIED:20220725T141727Z
UID:13077-1658921400-1658926800@www.molagers.org
SUMMARY:HResource Meeting - Blue Springs
DESCRIPTION:Please join us for lunch and expand your knowledge of your retirement system. We’ll be talking about the basics of benefits\, changing benefits\, what tools are available\, and communication tactics for the proper way of relaying LAGERS information. \n \n  \n  \n  \n  \nRegister\nView Recording
URL:https://www.molagers.org/lagers-events/hresource-meeting-blue-springs/
LOCATION:Drury Inn & Suites – Blue Springs\, 20300 E 42nd St S\, Blue Springs\, Blue Springs\, 64015\, United States
CATEGORIES:Employer Meetings,HResource Meeting
ATTACH;FMTTYPE=image/jpeg:https://www.molagers.org/wp-content/uploads/2021/02/HResource-Meeting.jpg
ORGANIZER;CN="Ginnie Medlin":MAILTO:gmedlin@molagers.org
END:VEVENT
BEGIN:VEVENT
DTSTART;TZID=America/Chicago:20220728T130000
DTEND;TZID=America/Chicago:20220728T153000
DTSTAMP:20260424T230050
CREATED:20220204T202453Z
LAST-MODIFIED:20220204T202453Z
UID:13822-1659013200-1659022200@www.molagers.org
SUMMARY:Pre-Retirement Seminar - Joplin
DESCRIPTION:Who should attend: Members within 5 years of retirement. \nThis seminar includes a short discussion on how your benefit is calculated. Then the focus shifts to the retirement application process\, payment options\, the taxation of your benefit\, the cost of living adjustments and options for working after retirement. \n  \n  \n  \n  \nRegister\nView Recording
URL:https://www.molagers.org/lagers-events/pre-retirement-seminar-joplin/
LOCATION:Hilton Garden Inn – Joplin\, 2644 E 32nd St.\, Joplin\, MO\, 64804\, United States
CATEGORIES:Pre-Retirement Seminars
ORGANIZER;CN="Penny Thomas":MAILTO:pthomas@molagers.org
END:VEVENT
END:VCALENDAR