BEGIN:VCALENDAR
VERSION:2.0
PRODID:-//Missouri LAGERS - ECPv6.15.14//NONSGML v1.0//EN
CALSCALE:GREGORIAN
METHOD:PUBLISH
X-WR-CALNAME:Missouri LAGERS
X-ORIGINAL-URL:https://www.molagers.org
X-WR-CALDESC:Events for Missouri LAGERS
REFRESH-INTERVAL;VALUE=DURATION:PT1H
X-Robots-Tag:noindex
X-PUBLISHED-TTL:PT1H
BEGIN:VTIMEZONE
TZID:America/Chicago
BEGIN:DAYLIGHT
TZOFFSETFROM:-0600
TZOFFSETTO:-0500
TZNAME:CDT
DTSTART:20210314T080000
END:DAYLIGHT
BEGIN:STANDARD
TZOFFSETFROM:-0500
TZOFFSETTO:-0600
TZNAME:CST
DTSTART:20211107T070000
END:STANDARD
BEGIN:DAYLIGHT
TZOFFSETFROM:-0600
TZOFFSETTO:-0500
TZNAME:CDT
DTSTART:20220313T080000
END:DAYLIGHT
BEGIN:STANDARD
TZOFFSETFROM:-0500
TZOFFSETTO:-0600
TZNAME:CST
DTSTART:20221106T070000
END:STANDARD
BEGIN:DAYLIGHT
TZOFFSETFROM:-0600
TZOFFSETTO:-0500
TZNAME:CDT
DTSTART:20230312T080000
END:DAYLIGHT
BEGIN:STANDARD
TZOFFSETFROM:-0500
TZOFFSETTO:-0600
TZNAME:CST
DTSTART:20231105T070000
END:STANDARD
END:VTIMEZONE
BEGIN:VEVENT
DTSTART;TZID=America/Chicago:20220201T140000
DTEND;TZID=America/Chicago:20220201T150000
DTSTAMP:20260425T182652
CREATED:20211214T174317Z
LAST-MODIFIED:20220408T151244Z
UID:12986-1643724000-1643727600@www.molagers.org
SUMMARY:Leaving LAGERS Covered Employment - February 1
DESCRIPTION:Who Should Attend: HR Personnel\, Members Considering Changing Jobs \nThis session is designed to help individuals considering leaving LAGERS covered employment understand all of the options for their LAGERS benefit. Because there are many benefit options for a member at termination\, this session may also be helpful for administrators and HR personnel who work with individuals through the termination of employment process.\n \n  \nRegister\nView Recording
URL:https://www.molagers.org/lagers-events/leaving-lagers-covered-employment-february-1/
CATEGORIES:Webinars
ORGANIZER;CN="Ginnie Medlin":MAILTO:gmedlin@molagers.org
END:VEVENT
BEGIN:VEVENT
DTSTART;TZID=America/Chicago:20220203T180000
DTEND;TZID=America/Chicago:20220203T203000
DTSTAMP:20260425T182652
CREATED:20211214T161944Z
LAST-MODIFIED:20211222T214244Z
UID:12964-1643911200-1643920200@www.molagers.org
SUMMARY:Virtual Pre-Retirement Seminar - February 3
DESCRIPTION:This is an online Virtual Pre-Retirement Seminar. \nIn this Virtual Pre-Retirement Seminar\, we will cover topics such as how your benefit is calculated\, the retirement application process\, payment options\, taxes\, COLAs\, and other after retirement topics. This webinar is open to all LAGERS members wanting to know more about the retirement process. \nPlease fully complete the registration so that we are able to generate your benefit estimate. A Pre-Retirement Seminar packet including your benefit estimate will be emailed to you before the event. \n  \nTechnical requirements for virtual seminar: \n\n\nA computer with speakers (mobile phones are compatible as well)\nStable internet connection\nMay require you to download the Zoom app or software prior to the meeting.\n\n\nContact Ginnie Medlin at 573.632.6366 or email gmedlin@molagers.org for more information. \nRegister\nView Recording
URL:https://www.molagers.org/lagers-events/virtual-pre-retirement-seminar-february-3/
CATEGORIES:Pre-Retirement Seminars,Webinars
ORGANIZER;CN="Ginnie Medlin":MAILTO:gmedlin@molagers.org
END:VEVENT
BEGIN:VEVENT
DTSTART;TZID=America/Chicago:20220208T140000
DTEND;TZID=America/Chicago:20220208T150000
DTSTAMP:20260425T182652
CREATED:20211214T184202Z
LAST-MODIFIED:20211222T213557Z
UID:12988-1644328800-1644332400@www.molagers.org
SUMMARY:A Walk Through MyLAGERS for Retirees
DESCRIPTION:Guest Speaker: Tami Jaegers\, LAGERS Assistant Director – Operations \nWho Should Attend: Administrators\, HR Personnel\, Members\, Retirees \nThis session will provide attendees with a tour of the myLAGERS\, some of the beneficial tasks you can complete on myLAGERS and all of the information you have at your fingertips. This session is great for any retiree looking for personalized information about their LAGERS benefit. \nRegister
URL:https://www.molagers.org/lagers-events/a-walk-through-mylagers-for-retirees-january/
CATEGORIES:Webinars
ATTACH;FMTTYPE=image/jpeg:https://www.molagers.org/wp-content/uploads/2021/12/first-page-pic.jpg
ORGANIZER;CN="Ginnie Medlin":MAILTO:gmedlin@molagers.org
END:VEVENT
BEGIN:VEVENT
DTSTART;TZID=America/Chicago:20220210T140000
DTEND;TZID=America/Chicago:20220210T150000
DTSTAMP:20260425T182652
CREATED:20211214T184735Z
LAST-MODIFIED:20220408T141107Z
UID:12992-1644501600-1644505200@www.molagers.org
SUMMARY:LAGERS Disability & Survivor Benefits Webinar - February 10
DESCRIPTION:Who Should Attend: Members\, Administrative & HR Personnel \nYour LAGERS benefit includes more than just retirement benefits. Disability and survivor benefits are an important part of your benefits package and should be part of your long-term financial plan. \nIn this webinar\, we will discuss what are Disability and Survivor benefits\, the eligibility requirements for beginning a benefit\, differences between Duty vs. Non-Duty related benefits\, the application & approval process\, and more!\n \nRegister\nView Recording
URL:https://www.molagers.org/lagers-events/lagers-disability-survivor-benefits-webinar-february-10/
CATEGORIES:Webinars
ORGANIZER;CN="Ginnie Medlin":MAILTO:gmedlin@molagers.org
END:VEVENT
BEGIN:VEVENT
DTSTART;TZID=America/Chicago:20220215T140000
DTEND;TZID=America/Chicago:20220215T150000
DTSTAMP:20260425T182652
CREATED:20211214T185208Z
LAST-MODIFIED:20220408T134003Z
UID:12994-1644933600-1644937200@www.molagers.org
SUMMARY:Estate Planning 101 - February 15
DESCRIPTION:Guest Speaker: Jason Paulsmeyer\, LAGERS Chief Counsel \nWho Should Attend: Members nearing retirement\, Retirees \nPlanning how your estate will be handled upon your death can be very overwhelming. Join LAGERS Chief Counsel Jason Paulsmeyer as he discusses the basics of estate planning including wills\, power of attorney\, trusts and more. \nRegister\n\nWatch Recording\n\n 
URL:https://www.molagers.org/lagers-events/estate-planning-101-february-15/
CATEGORIES:Webinars
ATTACH;FMTTYPE=image/png:https://www.molagers.org/wp-content/uploads/2021/12/Estate-Planning.png
ORGANIZER;CN="Ginnie Medlin":MAILTO:gmedlin@molagers.org
END:VEVENT
BEGIN:VEVENT
DTSTART;TZID=America/Chicago:20220216T080000
DTEND;TZID=America/Chicago:20220216T103000
DTSTAMP:20260425T182652
CREATED:20211214T162252Z
LAST-MODIFIED:20211222T214435Z
UID:12966-1644998400-1645007400@www.molagers.org
SUMMARY:Virtual Pre-Retirement Seminar - February 16
DESCRIPTION:This is an online Virtual Pre-Retirement Seminar. \nIn this Virtual Pre-Retirement Seminar\, we will cover topics such as how your benefit is calculated\, the retirement application process\, payment options\, taxes\, COLAs\, and other after retirement topics. This webinar is open to all LAGERS members wanting to know more about the retirement process. \nPlease fully complete the registration so that we are able to generate your benefit estimate. A Pre-Retirement Seminar packet including your benefit estimate will be emailed to you before the event. \n  \nTechnical requirements for virtual seminar: \n\n\nA computer with speakers (mobile phones are compatible as well)\nStable internet connection\nMay require you to download the Zoom app or software prior to the meeting.\n\n\nContact Ginnie Medlin at 573.632.6366 or email gmedlin@molagers.org for more information. \nRegister\nView Recording
URL:https://www.molagers.org/lagers-events/virtual-pre-retirement-seminar-february-16/
CATEGORIES:Pre-Retirement Seminars,Webinars
ORGANIZER;CN="Ginnie Medlin":MAILTO:gmedlin@molagers.org
END:VEVENT
BEGIN:VEVENT
DTSTART;TZID=America/Chicago:20220223T130000
DTEND;TZID=America/Chicago:20220223T153000
DTSTAMP:20260425T182652
CREATED:20211213T182000Z
LAST-MODIFIED:20211222T211459Z
UID:12802-1645621200-1645630200@www.molagers.org
SUMMARY:Pre-Retirement Seminar - Jefferson City
DESCRIPTION:Who should attend: Members within 5 years of retirement. \nThis seminar includes a short discussion on how your benefit is calculated. Then the focus shifts to the retirement application process\, payment options\, the taxation of your benefit\, the cost of living adjustments and options for working after retirement. \n  \n  \n  \n  \nRegister\nView Recording
URL:https://www.molagers.org/lagers-events/pre-retirement-seminar-jefferson-city/
LOCATION:LAGERS J. Robert Ashcroft Building\, 701 W. High St.\, Jefferson City\, Missouri\, 65101\, United States
CATEGORIES:Pre-Retirement Seminars
ORGANIZER;CN="Ginnie Medlin":MAILTO:gmedlin@molagers.org
END:VEVENT
BEGIN:VEVENT
DTSTART;TZID=America/Chicago:20220223T140000
DTEND;TZID=America/Chicago:20220223T150000
DTSTAMP:20260425T182652
CREATED:20211214T185744Z
LAST-MODIFIED:20220408T140048Z
UID:12997-1645624800-1645628400@www.molagers.org
SUMMARY:Taxes\, COLAs\, and Working After Retirement - Februrary 23
DESCRIPTION:Who Should Attend: Pre-Retirees and Retirees \nWhile applying for retirement and selecting a payment option are important\, they are not the only pieces of the puzzle when it comes to your LAGERS retirement benefit. This webinar discusses three of the other important topics surrounding your LAGERS benefit: taxes\, cost of living adjustments and working after retirement.\n \n  \nRegister\nView Recording
URL:https://www.molagers.org/lagers-events/taxes-colas-and-working-after-retirement-februrary-23/
CATEGORIES:CLA Credit,Webinars
ORGANIZER;CN="Ginnie Medlin":MAILTO:gmedlin@molagers.org
END:VEVENT
END:VCALENDAR