BEGIN:VCALENDAR
VERSION:2.0
PRODID:-//Missouri LAGERS - ECPv6.15.14//NONSGML v1.0//EN
CALSCALE:GREGORIAN
METHOD:PUBLISH
X-ORIGINAL-URL:https://www.molagers.org
X-WR-CALDESC:Events for Missouri LAGERS
REFRESH-INTERVAL;VALUE=DURATION:PT1H
X-Robots-Tag:noindex
X-PUBLISHED-TTL:PT1H
BEGIN:VTIMEZONE
TZID:America/Chicago
BEGIN:DAYLIGHT
TZOFFSETFROM:-0600
TZOFFSETTO:-0500
TZNAME:CDT
DTSTART:20210314T080000
END:DAYLIGHT
BEGIN:STANDARD
TZOFFSETFROM:-0500
TZOFFSETTO:-0600
TZNAME:CST
DTSTART:20211107T070000
END:STANDARD
BEGIN:DAYLIGHT
TZOFFSETFROM:-0600
TZOFFSETTO:-0500
TZNAME:CDT
DTSTART:20220313T080000
END:DAYLIGHT
BEGIN:STANDARD
TZOFFSETFROM:-0500
TZOFFSETTO:-0600
TZNAME:CST
DTSTART:20221106T070000
END:STANDARD
BEGIN:DAYLIGHT
TZOFFSETFROM:-0600
TZOFFSETTO:-0500
TZNAME:CDT
DTSTART:20230312T080000
END:DAYLIGHT
BEGIN:STANDARD
TZOFFSETFROM:-0500
TZOFFSETTO:-0600
TZNAME:CST
DTSTART:20231105T070000
END:STANDARD
END:VTIMEZONE
BEGIN:VEVENT
DTSTART;TZID=America/Chicago:20220630T140000
DTEND;TZID=America/Chicago:20220630T150000
DTSTAMP:20260424T230208
CREATED:20211220T211102Z
LAST-MODIFIED:20220408T135431Z
UID:13057-1656597600-1656601200@www.molagers.org
SUMMARY:How LAGERS Fits in to Your Financial Security Path - June 30
DESCRIPTION:Who Should Attend: Members at any career stage – especially new hires\, HR personnel\, Administrators \nThis session is specifically designed to help you better understand how LAGERS fits in to your personal financial picture\, how your benefit grows and the value it brings to your financial picture. This is a great session for you\, especially if you are a newer employee who’s just beginning your journey to financial independence.\n \n  \nRegister\nView Recording
URL:https://www.molagers.org/lagers-events/how-lagers-fits-in-to-your-financial-security-path-june-30/
CATEGORIES:CLA Credit,Webinars
ORGANIZER;CN="Ginnie Medlin":MAILTO:gmedlin@molagers.org
END:VEVENT
END:VCALENDAR