BEGIN:VCALENDAR
VERSION:2.0
PRODID:-//Missouri LAGERS - ECPv6.15.14//NONSGML v1.0//EN
CALSCALE:GREGORIAN
METHOD:PUBLISH
X-ORIGINAL-URL:https://www.molagers.org
X-WR-CALDESC:Events for Missouri LAGERS
REFRESH-INTERVAL;VALUE=DURATION:PT1H
X-Robots-Tag:noindex
X-PUBLISHED-TTL:PT1H
BEGIN:VTIMEZONE
TZID:America/Chicago
BEGIN:DAYLIGHT
TZOFFSETFROM:-0600
TZOFFSETTO:-0500
TZNAME:CDT
DTSTART:20210314T080000
END:DAYLIGHT
BEGIN:STANDARD
TZOFFSETFROM:-0500
TZOFFSETTO:-0600
TZNAME:CST
DTSTART:20211107T070000
END:STANDARD
BEGIN:DAYLIGHT
TZOFFSETFROM:-0600
TZOFFSETTO:-0500
TZNAME:CDT
DTSTART:20220313T080000
END:DAYLIGHT
BEGIN:STANDARD
TZOFFSETFROM:-0500
TZOFFSETTO:-0600
TZNAME:CST
DTSTART:20221106T070000
END:STANDARD
BEGIN:DAYLIGHT
TZOFFSETFROM:-0600
TZOFFSETTO:-0500
TZNAME:CDT
DTSTART:20230312T080000
END:DAYLIGHT
BEGIN:STANDARD
TZOFFSETFROM:-0500
TZOFFSETTO:-0600
TZNAME:CST
DTSTART:20231105T070000
END:STANDARD
END:VTIMEZONE
BEGIN:VEVENT
DTSTART;TZID=America/Chicago:20220421T140000
DTEND;TZID=America/Chicago:20220421T150000
DTSTAMP:20260425T164115
CREATED:20211220T194143Z
LAST-MODIFIED:20211222T210953Z
UID:13024-1650549600-1650553200@www.molagers.org
SUMMARY:Understanding Your LAGERS Benefit - April 21
DESCRIPTION:This is a basic explanation of what LAGERS Retirement Benefits are. Learn about how LAGERS is different from other retirement plans\, what you need to do to become eligible for benefits\, and see how valuable your benefit is to helping you reach your retirement goals. \nThis session is great for new employees or human resource personnel wanting a general overview of the LAGERS plan. You may forward this invitation to any new hires wishing to learn more about their benefits. \n \n  \nRegister\nView Recording
URL:https://www.molagers.org/lagers-events/understanding-your-lagers-benefit-april-21/
CATEGORIES:CLA Credit,Webinars
ORGANIZER;CN="Ginnie Medlin":MAILTO:gmedlin@molagers.org
END:VEVENT
END:VCALENDAR