BEGIN:VCALENDAR
VERSION:2.0
PRODID:-//Missouri LAGERS - ECPv6.15.14//NONSGML v1.0//EN
CALSCALE:GREGORIAN
METHOD:PUBLISH
X-ORIGINAL-URL:https://www.molagers.org
X-WR-CALDESC:Events for Missouri LAGERS
REFRESH-INTERVAL;VALUE=DURATION:PT1H
X-Robots-Tag:noindex
X-PUBLISHED-TTL:PT1H
BEGIN:VTIMEZONE
TZID:America/Chicago
BEGIN:DAYLIGHT
TZOFFSETFROM:-0600
TZOFFSETTO:-0500
TZNAME:CDT
DTSTART:20210314T080000
END:DAYLIGHT
BEGIN:STANDARD
TZOFFSETFROM:-0500
TZOFFSETTO:-0600
TZNAME:CST
DTSTART:20211107T070000
END:STANDARD
BEGIN:DAYLIGHT
TZOFFSETFROM:-0600
TZOFFSETTO:-0500
TZNAME:CDT
DTSTART:20220313T080000
END:DAYLIGHT
BEGIN:STANDARD
TZOFFSETFROM:-0500
TZOFFSETTO:-0600
TZNAME:CST
DTSTART:20221106T070000
END:STANDARD
BEGIN:DAYLIGHT
TZOFFSETFROM:-0600
TZOFFSETTO:-0500
TZNAME:CDT
DTSTART:20230312T080000
END:DAYLIGHT
BEGIN:STANDARD
TZOFFSETFROM:-0500
TZOFFSETTO:-0600
TZNAME:CST
DTSTART:20231105T070000
END:STANDARD
END:VTIMEZONE
BEGIN:VEVENT
DTSTART;TZID=America/Chicago:20220324T140000
DTEND;TZID=America/Chicago:20220324T150000
DTSTAMP:20260425T182658
CREATED:20211214T193339Z
LAST-MODIFIED:20220408T135402Z
UID:13004-1648130400-1648134000@www.molagers.org
SUMMARY:How LAGERS Fits In Your Path to Financial Security - March 24
DESCRIPTION:Who Should Attend: Members at any career stage – especially new hires\, HR personnel\, Administrators \nThis session is specifically designed to help you better understand how LAGERS fits in to your personal financial picture\, how your benefit grows and the value it brings to your financial picture. This is a great session for you\, especially if you are a newer employee who’s just beginning your journey to financial independence.\n This webinar is a CLA Core Requirement \n  \n  \nRegister\nView Recording
URL:https://www.molagers.org/lagers-events/how-lagers-fits-in-your-path-to-financial-security-march-24/
CATEGORIES:Webinars
ORGANIZER;CN="Ginnie Medlin":MAILTO:gmedlin@molagers.org
END:VEVENT
END:VCALENDAR